BEGIN:VCALENDAR
VERSION:2.0
X-WR-TIMEZONE:Europe/Paris
PRODID:-//Audencia//NONSGML v1.0//EN
CALSCALE:GREGORIAN
BEGIN:VEVENT
SUMMARY:Reporté - Soirée de fin d'année !
DTSTART:20191212T193000
DTEND:20191212T233000
UID:557
DTSTAMP:20260425T205853
LOCATION:Flora Danica - 142 avenue des Champs Elysées - 75008 Paris
DESCRIPTION:Chers diplômés,\n \nVous vous étiez inscrits à la soirée de fin d'année, ce jeudi 12 décembre dès 19h30 à la brasserie Flora Danica (Paris).\n \nEn raison des grèves et d’importantes perturbations de trafic prévues les jours à venir, nous sommes dans l’obligation de reporter l’événement. Nous vous proposerons une nouvelle date très prochainement et reviendrons vers vous par email à ce sujet. \n \nNous nous excusons pour la gêne occasionnée et vous remercions par avance pour votre compréhension.\n \nBien à vous, \n \nVotre équipe Audencia Alumni\n\n***************\n\nDear graduates,\n \nYou had registered for the end-of-the year party on Thursday, December 12 from 7.30pm onwards at the Flora Danica brewery (Paris).\n \nDue to strikes and major traffic disruptions expected in the coming days, we are required to cancel the event. We will propose a new date very soon and will come back to you by email on this subject.\n \nWe apologize for the inconvenience and thank you in advance for your understanding.\n \nYours sincerely,\n \nThe Audencia Alumni team\n \n\n\n(Français) \n\nIl est temps de dire au revoir à 2019 et de souhaiter la bienvenue à 2020 ! \nRejoignez-nous pour fêter une année réussie avec un petit aperçu de ce qui vous attend l'année prochaine.\n\nAu programme :\n\n- Dès 19h30 : Accueil\n- 20h00 : Verre d'accueil\n- 20h20/20h30 : Début des prises de parole\n\n	Flavie LORRE : Présidente de l'Association des Alumni\n	Françoise MARCUS : Directrice des Relations Entreprises et Diplômés\n	Matthieu BONNAMY : Responsable Pôle Alumni\n	Karyn MIKKELSEN-TILLET : Fundraising Manager - Fondation Audencia\n\n- 20h40 : Cocktail\n\nL'inscription est obligatoire et son bouton se trouve en haut à droite. \n\n\n*********\n\n(English)\n\nSo long, farewell, it's time to say goodbye ... to 2019 and welcome 2020!\nCome join us, as we celebrate yet another successful year and have a glimpse of what is in store for the new year. \n\nOn the program:\n\n- 19h30 onwards: Welcome\n- 20h00: Welcome drink\n- 20h20/20h30: Beginning of the speeches\n\n	Flavie Lorre: President of the Alumni Association\n	Françoise Marcus: Director of Corporate & Alumni Relations\n	Matthieu Bonnamy: Head of Alumni Center\n	Karyn Mikkelsen-Tillet: Fundraising Manager - Audencia Foundation\n\n- 20h40 : Cocktail\n\nRegistrations are compulsory & its button is on top to your right.\n\n\n​Questions? : nushad.merchant@audencia.com 
BEGIN:VALARM
ACTION:DISPLAY
TRIGGER:-PT60M
DESCRIPTION:Reporté - Soirée de fin d'année !
END:VALARM
END:VEVENT
END:VCALENDAR