BEGIN:VCALENDAR
VERSION:2.0
X-WR-TIMEZONE:Europe/Paris
PRODID:-//Audencia//NONSGML v1.0//EN
CALSCALE:GREGORIAN
BEGIN:VEVENT
SUMMARY:Google AdCamp for International students comes to Paris!
DTSTART:20191128T090000
DTEND:20191128T180000
UID:556
DTSTAMP:20260425T205946
LOCATION:Paris
DESCRIPTION:\n\n\nThe Google University Programs team is excited to invite you to apply for our upcoming student event in Paris. Attendees will catch a rare glimpse behind the scenes at Google, expand their network and prepare for interviews for full time roles at Google.\n\nWho can apply?  This event is open to International students graduating in 2019, 2020 or 2021 who are currently based in France. Apply if you’re interested in full time opportunities at Google and have previous experience in sales, technical support, product operations management, account management or consulting. \n \nHow to apply? Take three minutes to apply by clicking here "Register". Please include the “FR112019” event code. Applications without a code will not be considered. \n \n\nApplications close on Sunday, November 10, 2019. \n\n\n\n\n 
BEGIN:VALARM
ACTION:DISPLAY
TRIGGER:-PT60M
DESCRIPTION:Google AdCamp for International students comes to Paris!
END:VALARM
END:VEVENT
END:VCALENDAR