BEGIN:VCALENDAR
VERSION:2.0
X-WR-TIMEZONE:Europe/Paris
PRODID:-//Audencia//NONSGML v1.0//EN
CALSCALE:GREGORIAN
BEGIN:VEVENT
SUMMARY:Webinar - Digitaliser les process pour remettre l'humain au cœur des RH
DTSTART:20191107T110000
DTEND:20191107T120000
UID:553
DTSTAMP:20260425T210431
LOCATION:
DESCRIPTION:\n	\n		\n			\n			\n				\n					\n						\n						\n							\n								\n									\n									\n										\n											\n												\n												\n													\n														\n															Gagner du temps sur les tâches chronophages et sans grande valeur ajoutée (publication des offres, tri des CVs,...) pour se consacrer à l’expérience candidat ou encore à l’onboarding : le rêve des tous les professionnels RH !\n															\n															Or, si la digitalisation peut faire craindre une déshumanisation des process RH, elle offre aussi un vrai gain de temps grâce à leur automatisation.\n															\n															Participez à notre webinar le 7 novembre en partenariat avec Payfit, afin de découvrir les tâches qui peuvent gagner à être digitalisées !\n														\n														\n															\n															\n																\n																	\n																		Je m'inscris\n																	\n																\n															\n															\n														\n													\n												\n												\n											\n										\n									\n\n									 \n									\n								\n							\n						\n\n						 \n						\n					\n				\n			\n\n			 \n			\n		\n		\n			\n			\n				\n					\n						\n						\n							\n								\n									\n									\n										\n											\n												\n												\n													\n														\n															Programme\n														\n														\n															Quelques sujets abordés\n														\n														\n															Quelles sont les tâches à digitaliser facilement et en priorité ?\n															Les outils à utiliser pour cette digitalisation\n															Des actions concrètes à mettre en place sur le temps libéré\n														\n													\n												\n												\n											\n										\n									\n\n									 \n									\n								\n							\n						\n\n						 \n						\n					\n				\n			\n\n			 \n			\n		\n		\n			\n			\n				\n					\n						\n						\n							\n								\n									\n									\n										\n											\n												\n												\n													\n														\n															Speakers\n														\n														\n															Le webinar sera animé par\n														\n													\n												\n												\n											\n										\n									\n\n									 \n									\n								\n							\n						\n\n						 \n						\n					\n				\n			\n\n			 \n			\n		\n		\n			\n			\n				\n					\n						\n						\n							\n								\n									\n									\n										\n											\n												\n												\n													\n														\n															\n															\n																\n																	\n																		\n																		Amandine \n																		DRH\n																		Payfit\n																	\n																\n															\n															\n														\n													\n												\n												\n												\n												\n													\n														\n															\n															\n																\n																	\n																		\n																		Sophia \n																		Customer Success Mid Manager\n																		JobTeaser\n																	\n																\n															\n															\n														\n													\n												\n												\n											\n										\n									\n\n									 \n									\n								\n							\n						\n\n						 \n						\n					\n				\n			\n\n			 \n			\n		\n		\n			\n			\n				\n					\n						\n						\n							\n								\n									\n									\n										\n											\n												\n												\n													\n														\n															Intéressé(e) par ce webinar mais pas disponible le 7 novembre ? Inscrivez-vous pour recevoir le replay et la présentation !\n														\n														\n															\n															\n																\n																	\n																		Je réserve ma place\n																	\n																\n															\n															\n														\n													\n												\n												\n											\n										\n									\n\n									 \n									\n								\n							\n						\n\n						 \n						\n					\n				\n			\n\n			 \n			\n		\n	\n\n\n 
BEGIN:VALARM
ACTION:DISPLAY
TRIGGER:-PT60M
DESCRIPTION:Webinar - Digitaliser les process pour remettre l'humain au cœur des RH
END:VALARM
END:VEVENT
END:VCALENDAR