BEGIN:VCALENDAR
VERSION:2.0
X-WR-TIMEZONE:Europe/Paris
PRODID:-//Audencia//NONSGML v1.0//EN
CALSCALE:GREGORIAN
BEGIN:VEVENT
SUMMARY:Capsule Carrière Nantes 28 novembre 2019 : Image et posture professionnelle, que raconte votre image ?
DTSTART:20191128T190000
DTEND:20191128T220000
UID:552
DTSTAMP:20260425T223707
LOCATION:Mediacampus 41 Boulevard de la Prairie au Duc, 44200 Nantes
DESCRIPTION:Audencia Careers et Audencia Alumni ont le plaisir de vous convier à une Capsule Carrière à Nantes.\nCelle-ci sera animée par Agnès MARCHAND, Responsable Audencia Careers.\n \n\n"Image et posture professionnelle, que raconte votre image ?"\n\nVoici le programme de cette conférence :\n- Les enjeux professionnels de la communication non verbale \n- Retour d'image : que raconte votre image ?\n- Quelques personnes volontaires participeront à un retour d'image\n- Nous évaluerons les décalages et les cohérences de l'image perçue en fonction de l'image désirée\n- Les clefs d'une image maîtrisée pour asseoir sa crédibilité \n- Quelques clefs pour mettre en cohérence son image et ses objectifs professionnels :\n Codes vestimentaires \n Clefs comportementales et gestuelles\n- Quels sont les ajustements concrets possibles pour crédibiliser l'image des personnes volontaires ?\n- Questions-Réponses\n\n\n\n\nAude ROY conférencière, coach et formatrice, elle accompagne les entreprises et les particuliers, dirigeants, cadres, étudiants en leur transmettant les codes adaptés à une posture professionnelle juste, crédible, stratégique et confortable.\nElle est l"auteure de :"Maîtrisez votre image professionnelle" aux éditions Intereditions Dunod.\nPrésidente de l'association francophone de l'image et de la posture professionnelle, membre certifiée de l'EMCC, association européenne de coaching et synergologue.\n \n\nJeudi 28 Novembre 2019 à Nantes\n19:00 – 22:00\nMédiacampus\n41 Boulevard de la Prairie au Duc\n44200 Nantes\n\nAgenda\n\n	19h : Accueil\n	19h30 - 21h : Conférence\n	21h - 22h : Cocktail\n\n\nInscriptions en haut à droite \nInformations complémentaires : audenciaalumni@audencia.com \nPlus d'informations sur Aude ROY, cliquez ici
BEGIN:VALARM
ACTION:DISPLAY
TRIGGER:-PT60M
DESCRIPTION:Capsule Carrière Nantes 28 novembre 2019 : Image et posture professionnelle, que raconte votre image ?
END:VALARM
END:VEVENT
END:VCALENDAR