BEGIN:VCALENDAR
VERSION:2.0
X-WR-TIMEZONE:Europe/Paris
PRODID:-//Audencia//NONSGML v1.0//EN
CALSCALE:GREGORIAN
BEGIN:VEVENT
SUMMARY:Club Culture & Management - Intelligence artificielle : l'intelligence artificielle et la création d'oeuvre
DTSTART:20191113T190000
DTEND:20191113T210000
UID:551
DTSTAMP:20260425T210151
LOCATION:Fondation d'entreprise Ricard Rue Boissy d'Anglas Paris 8e
DESCRIPTION:L'intelligence artificielle s'invite dans la création. Les premières œuvres créées par IA ont été vendues aux enchères : la symphonie n8 de Schubert achevée par IA est jouée à Londres, les studios développent des machines à scénarios.\n\nLe terrain d'expression de l'artiste augmenté et le marché de la création par IA sont infinis.\n\nQuelles sont les perspectives technologiques et les modèles économiques ? La notion d'œuvre, comme reflet de la personnalité, est-elle à repenser ?\n \n\nModératrice :\n\nJuliette FELIX\nHERALD Avocats/Avocate, Responsable Audiovisuel / Cinéma c&m\n\n\nPour les inscriptions : https://bit.ly/363f3jU\n\n
BEGIN:VALARM
ACTION:DISPLAY
TRIGGER:-PT60M
DESCRIPTION:Club Culture & Management - Intelligence artificielle : l'intelligence artificielle et la création d'oeuvre
END:VALARM
END:VEVENT
END:VCALENDAR