BEGIN:VCALENDAR
VERSION:2.0
X-WR-TIMEZONE:Europe/Paris
PRODID:-//Audencia//NONSGML v1.0//EN
CALSCALE:GREGORIAN
BEGIN:VEVENT
SUMMARY:Dinner in San Francisco, USA
DTSTART:20191111T190000
DTEND:20191111T213000
UID:550
DTSTAMP:20260425T205858
LOCATION:E&O Kitchen and Bar 314 Sutter Street San Francisco CA 94108
DESCRIPTION:Audencia's Executive MBA on a learning trip to San Francisco\n\nOn the occasion of Audencia's Executive MBA learning trip to SF, a welcome reception is being organised.\n\nCome and meet Jean-Marc Charlot, director of Audencia's Executive MBA programme and the participants from Nantes who are spending a week in the Silicon Valley:\n\nDate: Monday 11 November\nTime: from 19:00\nLocation: E&O Kitchen and Bar\nAddress: 314 Sutter Street, San Francisco, CA 94108\nMore details: eosanfrancisco.com
BEGIN:VALARM
ACTION:DISPLAY
TRIGGER:-PT60M
DESCRIPTION:Dinner in San Francisco, USA
END:VALARM
END:VEVENT
END:VCALENDAR