BEGIN:VCALENDAR
VERSION:2.0
X-WR-TIMEZONE:Europe/Paris
PRODID:-//Audencia//NONSGML v1.0//EN
CALSCALE:GREGORIAN
BEGIN:VEVENT
SUMMARY:Club Luxe - Lancement & Afterwork chez Les Petites Ambitieuses
DTSTART:20191127T200000
DTEND:20191127T220000
UID:549
DTSTAMP:20260425T205816
LOCATION:Les Petites Ambitieuses 51 rue de la Fontaine au Roi, Paris 11
DESCRIPTION:Cette soirée sera l'occasion de présenter le Club Luxe, d'échanger des idées pour l'animer et surtout se retrouver autour d'un verre et des diplômés qui travaillent dans le monde du luxe dans un cadre cosy et intimiste.\n \nElle se passera au Showroom de la marque Les Petites Ambitieuses, dans Paris 11, à proximité des métros Parmentier, République, Goncourt et Oberkampf.\n \nLes Petites Ambitieuses est une marque de mode haut de gamme dédiée aux femmes qui mesurent moins d'1m63.\nLes pièces sont créées pour sublimer les silhouettes des femmes petites et sont conçues avec le meilleur des savoir-faire français de la Haute couture.\nLa marque a été lancée en Septembre 2019 par Sandrine Chan Im, une diplomée de la promotion 2012.\nPour plus d'informations, n'hésitez pas à visiter : https://lespetitesambitieuses.com/\n \nBlandine Étienne-Kahn, de la promotion 1994, devenue une artiste peintre qui mêle lumière et couleurs pour imprimer les plus beaux moments de la vie, présentera également quelques unes de ses toiles. \nAvant de se lancer dans la peinture, Blandine a longtemps travaillé dans l'univers du luxe. Elle a conservé dans son art l'amour des belles matières et de la qualité.\nDécouvrez une partie de ses oeuvres à l'adresse suivante : https://www.envied1peinture.com/\n \nEnvie d'échanger sur les codes haut de gamme et luxe de la mode et des arts ?\n\nInscrivez-vous vite et venez nombreux !
BEGIN:VALARM
ACTION:DISPLAY
TRIGGER:-PT60M
DESCRIPTION:Club Luxe - Lancement & Afterwork chez Les Petites Ambitieuses
END:VALARM
END:VEVENT
END:VCALENDAR