BEGIN:VCALENDAR
VERSION:2.0
X-WR-TIMEZONE:Europe/Paris
PRODID:-//Audencia//NONSGML v1.0//EN
CALSCALE:GREGORIAN
BEGIN:VEVENT
SUMMARY:Conférence "coming out entrepreneurial" à New York, USA
DTSTART:20191111T183000
DTEND:20191111T203000
UID:546
DTSTAMP:20260425T210447
LOCATION:WeWork 12 E 49th St New York
DESCRIPTION:Coming out entrepreneurial (NYC) : de l'intention à l'action de se lancer !\n\nVous avez un projet entrepreneurial dans ou hors de l'entreprise ? Ou vous souhaitez tout simplement développer votre agilité, votre prise d'initiatives, vous mettre en mouvement... plus encore, développer votre esprit entrepreneurial !\n\nMais vous restez bloqué, tiraillé entre envies, doutes, manque de confiance en vous. Pourtant le point de départ n'est pas d'avoir une idée, ni d'être "un créatif", mais d'avoir conscience de ses motivations et aptitudes à se mettre en mouvement.\n\nAyant vécu cette phase, en tant que salarié et futur entrepreneur, nous partagerons ensemble des témoignages, une approche (l'effectuation), et une méthode (FRIDA) vous permettant de devenir acteur de votre projet professionnel, quel qu’il soit.\n\nAprès 5 années comme Brand Director chez Coca-Cola, Evan Holod, CEO Michel & Augustin US, nous expliquera comment il est passé d’une entreprise globale à un projet à dimension entrepreneuriale.\n\nCommencé en novembre 2018 à Nantes, ce format de conférence a déjà conquis plus de 500 personnes (pitch vidéo)\n\n \nConférence gratuite et en français\nPlaces limitées\nINSCRIPTION OBLIGATOIRE\n\n\nDate: mardi 11 novembre\nHeure: 18:30\nLieu: WeWork 12 E 49th St, New York, NY 10017, 18th Floor\nPour pouvoir accéder au site WeWork, merci de bien mentionner votre nom et prénom sur votre profil Meetup.\n \nProgramme:\n \n\n	18:30 Accueil\n	18:45 Témoignage Evan Holod, CEO Michel & Augustin US\n	19:15 Développer sa culture entrepreneuriale avec "l’Effectuation" + se mettre en mouvement avec "FRIDA", Alexis T. de Clermont-Tonnerre, Fondateur REVENTIS\n	20:00 Cocktail\n	20:30 Fin de l’événement\n
BEGIN:VALARM
ACTION:DISPLAY
TRIGGER:-PT60M
DESCRIPTION:Conférence "coming out entrepreneurial" à New York, USA
END:VALARM
END:VEVENT
END:VCALENDAR