BEGIN:VCALENDAR
VERSION:2.0
X-WR-TIMEZONE:Europe/Paris
PRODID:-//Audencia//NONSGML v1.0//EN
CALSCALE:GREGORIAN
BEGIN:VEVENT
SUMMARY:Joint business school ball in Milan, Italy
DTSTART:20191116T180000
DTEND:20191116T235900
UID:545
DTSTAMP:20260425T223813
LOCATION:Hotel Palazzo Parigi Corso di Porta Nuova 1 Milano
DESCRIPTION:The 3rd edition of the Milan Joint Business School Ball will take place at the prestigious Hotel Palazzo Parigi in Milan on Saturday 16 November\n\nLast year’s edition was attended by 164 alumni from 25 business schools, with a consistent presence of international alumni flying to Milan to attend the event. \n\nTo find out more about the Ball and buy your tickets, please visit the event’s official website\n \n\n	Location: Hotel Palazzo Parigi, Corso di Porta Nuova 1, Milano\n	Date: 16 November 2019\n	Time: from 18:00 until 01:00\n	Format: Gala Ball, including aperitif, followed by a seated dinner with drinks, live music and dancing\n	Price: 180€\n\n\nRegistration and Ticketing\n\n\nWe have also created a Facebook event page where you can join the event and share your participation with other Alumni and friends.\n\nDress code: strictly black tie for men and long gown for the ladies.\nTo help our guests prepare the perfect look for the evening the Committee has partnered with men’s bespoke tailor Sartoria Deplano, Guffanti Concept and DressYouCan. For more information on our special offers please visit our dedicated webpage    \n\nOn top of our Ball “classics” that include the aperitif with Adamas Luxury Italian Caviar and Campari cocktails, guests will also have the possibility to try out different rare whisky and rum bottlings provided by independent spirits purveyor Valinch & Mallet. \n\nFor any other detail please contact the Milan JBSB Committee directly by email\n\nAs usual in our events also Partners and Friends are welcome and we encourage reserving your seat as soon as possible due to limited availability.\n\nBest regards,\nMilan JBSB Organising Committee\n\n \n
BEGIN:VALARM
ACTION:DISPLAY
TRIGGER:-PT60M
DESCRIPTION:Joint business school ball in Milan, Italy
END:VALARM
END:VEVENT
END:VCALENDAR