BEGIN:VCALENDAR
VERSION:2.0
X-WR-TIMEZONE:Europe/Paris
PRODID:-//Audencia//NONSGML v1.0//EN
CALSCALE:GREGORIAN
BEGIN:VEVENT
SUMMARY:Afterwork in Luxembourg
DTSTART:20191121T200000
DTEND:20191121T213000
UID:544
DTSTAMP:20260425T210431
LOCATION:Bazaar 46 Place Guillaume II 1648 Luxembourg
DESCRIPTION:The Luxembourg chapter is holding an inaugural afterwork!\n\nThomas (GE 16) has risen to the challenge of reviving the Luxembourg alumni chapter. Come and join him on Thursday 21 November from 20:00 to make that first connection with fellow alumni and former classmates and talk about how to mobilise the Luxembourg network.\n\n- Venue: Bazaar (46 Place Guillaume II, 1648 Luxembourg)\n- Date: Thursday 21 November\n- Time: from 20:00\n 
BEGIN:VALARM
ACTION:DISPLAY
TRIGGER:-PT60M
DESCRIPTION:Afterwork in Luxembourg
END:VALARM
END:VEVENT
END:VCALENDAR