BEGIN:VCALENDAR
VERSION:2.0
X-WR-TIMEZONE:Europe/Paris
PRODID:-//Audencia//NONSGML v1.0//EN
CALSCALE:GREGORIAN
BEGIN:VEVENT
SUMMARY:CANCELLED: Afterwork in Rome, Italy
DTSTART:20191120T193000
DTEND:20191120T210000
UID:543
DTSTAMP:20260425T210012
LOCATION:Hotel Panama Garden Via Salaria, 336 00199 Rome
DESCRIPTION:Audencia Career Centre is coming to Rome!\n\nCareers consultants Agnès Marchand and Anne-Sophie Berthelot are attending a conference in Rome and would like to take this opportunity to hold an informal afterwork gathering with alumni from Audencia.\n\nCome and join them on Wednesday 20 November from 19:30 at the Bar&Lounge of the Panama Garden Hotel (Via Salaria 336, Rome).
BEGIN:VALARM
ACTION:DISPLAY
TRIGGER:-PT60M
DESCRIPTION:CANCELLED: Afterwork in Rome, Italy
END:VALARM
END:VEVENT
END:VCALENDAR