BEGIN:VCALENDAR
VERSION:2.0
X-WR-TIMEZONE:Europe/Paris
PRODID:-//Audencia//NONSGML v1.0//EN
CALSCALE:GREGORIAN
BEGIN:VEVENT
SUMMARY:CANCELLED: Meet & Learn #4 à Genève, Suisse
DTSTART:20191204T183000
DTEND:20191204T210000
UID:542
DTSTAMP:20260425T210052
LOCATION:SPACES QUAI DE L’ILE Quai de l’Ile 13 1204 Genève
DESCRIPTION:GEM Alumni et Audencia Alumni vous invitent à découvrir le concept de l'entreprise Libérée* à travers les yeux de Nicolas Schaetti fondateur d’Ants Ethic en Suisse\n\nParticipez à la prochaine conférence Meet & Learn le 4 décembre à partir de 18h30 à SPACES, Quai de l'Ile, Genève. Conférence accessible uniquement sur inscription.\n\n \nINSCRIPTION\nLe code alumni pour bénéficier du tarif spécial est ML-ALUMNI\n\n\n*Le terme entreprise libérée désigne une forme organisationnelle dans laquelle les collaborateurs sont en grande partie libres et responsables - eux et non leurs patrons - des actions qu’ils entreprennent.\nAvec l’intervention de Nicolas Schaetti, fondateur d’Ants Ethic en SUISSE \nPrincipalement appliqué dans la Silicon Valley ou plus généralement dans les jeunes sociétés du web, le concept d'entreprise libérée se démocratise. Cependant, trop peu de cas pratiques sont partagés en dehors de ces industries technologiques.\n\nNicolas Schaetti vous propose son parcours au sein de ce hedge fund, dont il fut l'actionnaire, qui durant 10 ans a appliqué ces préceptes à 100%. Il vous propose la rétrospective et l'histoire réelle des succès, des apprentissages et des échecs de ces idées trop souvent théoriques. Peut-on appliquer ces méthodes à l'une des industries les plus concurrentielles et obscures de ces 30 dernières années?\nVous pourrez échanger autour de la thématique de la conférence lors du cocktail qui suivra.\n 
BEGIN:VALARM
ACTION:DISPLAY
TRIGGER:-PT60M
DESCRIPTION:CANCELLED: Meet & Learn #4 à Genève, Suisse
END:VALARM
END:VEVENT
END:VCALENDAR