BEGIN:VCALENDAR
VERSION:2.0
X-WR-TIMEZONE:Europe/Paris
PRODID:-//Audencia//NONSGML v1.0//EN
CALSCALE:GREGORIAN
BEGIN:VEVENT
SUMMARY:Table ronde - La négociation et les Français.e.s, un exercice de style ou de genre ?
DTSTART:20191107T180000
DTEND:20191107T210000
UID:541
DTSTAMP:20260425T205842
LOCATION:Tour Europlaza Courbevoie
DESCRIPTION:\n	\n		\n			\n			\n				\n					\n						\n						Un constat : Des inégalités femmes-hommes persistantes dans le monde du travail et une approche différente de la négociation.\n						\n						Une étude* pour comprendre : Quel est le ressenti des Français.e.s face à la négociation ? Quels sont les résultats obtenus par ceux qui expriment leurs demandes ? Pourquoi les femmes osent-elles moins franchir ce pas ? Quelles mesures « égalité femmes-hommes » sont déployées et/ou souhaitées dans leurs entreprises ?\n						\n						Une table ronde : Nous aurons le plaisir d'écouter le retour d’expérience de nos invités et de partager avec eux les résultats de l'étude. L’événement permettra également de revenir sur l’initiative﻿ #NégoTraining﻿ de la chaire RSE d’Audencia, inédite en France. En formant les femmes à la négociation salariale, elle a permis aux participantes d’obtenir des avancées notables en matière de rémunération.\n					\n				\n			\n			\n		\n	\n\n \n\n\n	\n		\n			\n			\n				\n					\n						* Une étude OpinionWay pour la Chaire RSE d’Audencia en partenariat avec KPMG France\n						\n						En présence de :\n						François BLOCH : Directeur Général, KPMG France\n						Agnès Bricard : Présidente, BPW France\n						Corinne Hirsch : Cofondatrice, Laboratoire de l'Egalité\n						André Sobczak : Titulaire de la chaire RSE, Audencia\n						\n						Pour s'inscrire : ? https://lnkd.in/duHbVRJ\n					\n				\n			\n			\n		\n	\n
BEGIN:VALARM
ACTION:DISPLAY
TRIGGER:-PT60M
DESCRIPTION:Table ronde - La négociation et les Français.e.s, un exercice de style ou de genre ?
END:VALARM
END:VEVENT
END:VCALENDAR