BEGIN:VCALENDAR
VERSION:2.0
X-WR-TIMEZONE:Europe/Paris
PRODID:-//Audencia//NONSGML v1.0//EN
CALSCALE:GREGORIAN
BEGIN:VEVENT
SUMMARY:Club Sport Business - Rencontre avec NIKE !
DTSTART:20191107T184500
DTEND:20191107T210000
UID:540
DTSTAMP:20260425T205814
LOCATION:Audencia Executive Campus Paris 95 Rue Falguière Paris 15e
DESCRIPTION:Un avenir chez Nike vous intéresse ?\n\nAlors, venez nous retrouver afin de savoir plus sur Nike : Histoire & Héritage, Community et Innovation.\nVous apprendrez aussi davantage sur Nike Retail et son nouveau projet House Of Innovation à Paris.\n\nSoyez nombreux à vous inscrire !\n\n\n\n\n 
BEGIN:VALARM
ACTION:DISPLAY
TRIGGER:-PT60M
DESCRIPTION:Club Sport Business - Rencontre avec NIKE !
END:VALARM
END:VEVENT
END:VCALENDAR