BEGIN:VCALENDAR
VERSION:2.0
X-WR-TIMEZONE:Europe/Paris
PRODID:-//Audencia//NONSGML v1.0//EN
CALSCALE:GREGORIAN
BEGIN:VEVENT
SUMMARY:Afterwork in San Francisco, USA
DTSTART:20170627T190000
DTEND:20170627T210000
UID:54
DTSTAMP:20260425T205846
LOCATION:Wine Down  685 Folsom Street (SOMA neighbourhood) San Francisco
DESCRIPTION:Are you an alum, a student, an intern or simply a friend of Audencia?\n \nOn the occasion of Audencia Careers consultant Catherine Chassanite’s visit to San Francisco, alumnus Matthieu Soulé is delighted to organise an afterwork drink for Audencians from all horizons.\n \nJoin Catherine and Matthieu on Tuesday 27th June from 7 to 9pm at\nWine Down\n685 Folsom Street (SOMA neighbourhood)\nSan Francisco\n \nhttp://www.winedownsf.com/\nTel: (415) 829-7005
BEGIN:VALARM
ACTION:DISPLAY
TRIGGER:-PT60M
DESCRIPTION:Afterwork in San Francisco, USA
END:VALARM
END:VEVENT
END:VCALENDAR