BEGIN:VCALENDAR
VERSION:2.0
X-WR-TIMEZONE:Europe/Paris
PRODID:-//Audencia//NONSGML v1.0//EN
CALSCALE:GREGORIAN
BEGIN:VEVENT
SUMMARY:Gathering of International Alumni with Patricia & Nushad
DTSTART:20191022T193000
DTEND:20191022T213000
UID:539
DTSTAMP:20260425T205950
LOCATION:Audencia Executive Campus Paris 95 Rue Falguière Paris 15e
DESCRIPTION:Calling international Alumni working in France!\n \nFollowing the gathering of 26th September, we would like to invite you to be part of the Organizing Team preparing the launching of Go France which will take place early next year.\n \nWe would like to give voice to international Alumni that have taken the challenge of working in France to prepare a meaningful event where you will all feel represented.\n \n\n	Would you like to help us with this event?\n	Would you be willing to come to a brainstorming on the topics and speakers that would best fit our purpose?\n	Would you yourself share your story? \n\n \nMeet us on 22nd October and let’s get the ball rolling!\n \nYour input /comments are always welcome!\n 
BEGIN:VALARM
ACTION:DISPLAY
TRIGGER:-PT60M
DESCRIPTION:Gathering of International Alumni with Patricia & Nushad
END:VALARM
END:VEVENT
END:VCALENDAR