BEGIN:VCALENDAR
VERSION:2.0
X-WR-TIMEZONE:Europe/Paris
PRODID:-//Audencia//NONSGML v1.0//EN
CALSCALE:GREGORIAN
BEGIN:VEVENT
SUMMARY:Webinar - Les 1ères étapes pour créer votre site avec Wix
DTSTART:20191015T123000
DTEND:20191015T131500
UID:538
DTSTAMP:20260425T205910
LOCATION:
DESCRIPTION: \n\n	\n		\n			\n			\n				\n					\n						? Vous avez envie de créer votre site internet et avez entendu parler de Wix ? Il est temps de se lancer. Pendant ce webinar, nous verrons les 1ères étapes pour créer votre site internet simplement ?\n						 \n						Au programme :\n						- Nom de domaine et forfait premium\n						- Créer une arborescence et une page\n						- Insérer du contenu : texte, images, documents...\n						- Intégrer un blog\n						- Publier son site\n						 \n						??‍? Comme à chaque fois, un temps sera dédié pour répondre à vos questions.\n						? Pour vous inscrire, rien de plus simple, cliquez ici http://bit.ly/webinar-wix\n					\n				\n			\n			\n		\n	\n
BEGIN:VALARM
ACTION:DISPLAY
TRIGGER:-PT60M
DESCRIPTION:Webinar - Les 1ères étapes pour créer votre site avec Wix
END:VALARM
END:VEVENT
END:VCALENDAR