BEGIN:VCALENDAR
VERSION:2.0
X-WR-TIMEZONE:Europe/Paris
PRODID:-//Audencia//NONSGML v1.0//EN
CALSCALE:GREGORIAN
BEGIN:VEVENT
SUMMARY:MFM - Rencontre avec Louis Bey et Concert
DTSTART:20191009T183000
DTEND:20191009T210000
UID:537
DTSTAMP:20260425T205855
LOCATION:Audencia Campus Paris 95 Rue Falguière Paris 15e
DESCRIPTION:MS Management de la Filière Musicale (MFM) a le plaisir de vous inviter à la soirée rencontre avec Louis Bey du Label Genus Gaia suivi d'un concert le mercredi 9 octobre à partir de 18h30 sur le campus Paris d'Audencia.\n\nPlaces limitées. Alors, inscrivez-vous en cliquant sur le bouton "S'inscrire" à droite.\n\n
BEGIN:VALARM
ACTION:DISPLAY
TRIGGER:-PT60M
DESCRIPTION:MFM - Rencontre avec Louis Bey et Concert
END:VALARM
END:VEVENT
END:VCALENDAR