BEGIN:VCALENDAR
VERSION:2.0
X-WR-TIMEZONE:Europe/Paris
PRODID:-//Audencia//NONSGML v1.0//EN
CALSCALE:GREGORIAN
BEGIN:VEVENT
SUMMARY:Invitation - OVHcloud Summit 2019
DTSTART:20191010T083000
DTEND:20191010T180000
UID:536
DTSTAMP:20260425T205843
LOCATION:Paris Expo Porte de Versailles 1 Place de la Porte de Versailles 75015 Paris
DESCRIPTION:L'événement IT du leader européen du cloud\n\n\n\n \n\nRendez-vous le jeudi 10 octobre à Paris Expo pour l’OVHcloud Summit 2019 et retrouvez Octave Klaba et Michel Paulin, respectivement président et directeur général. L'OVHcloud Summit sera aussi l'occasion de célébrer les 20 ans d'OVHcloud.\n\nVenez contribuer à un écosystème ouvert, où experts techniques, chefs d'entreprise, spécialistes de l'industrie, partenaires et clients interagissent et s’enrichissent mutuellement.\nInspirez-vous, partagez et laissez-vous surprendre ! Au programme : intelligence artificielle, sécurité et stratégie de migration des données, ainsi que toutes les nouveautés Cloud, Web et Télécom.\n\nDes témoignages client et partenaire illustreront la façon dont la technologie et le traitement des données transforment l’entreprise. Ce sera l’occasion pour vous de networker avec des leaders du monde des affaires et de l’IT et de découvrir ou redécouvrir nos solutions et services.\n\nDepuis 20 ans, notre remise en question des idées reçues et notre démarche ouverte et collaborative nous permettent de vous offrir les performances, la proximité, ainsi que la liberté d’innover.\n\nCélébrons ensemble ce 20e anniversaire !\n\n\nAgenda : \n·  8 h 30 - 9 h 30 : accueil\n·  9 h 30 - 11 h 30 : keynote\n·  11 h 30 - 18 h 00 : conférences et labs\n·  12 h 30 - 13 h 30 : déjeuner\n·  18 h 00 : clôture\n\nLes inscriptions sont gratuites : https://bit.ly/2nOD5xB\n\nAu plaisir de vous retrouver au pavillon 5.2 et 5.3​,\nCyril Banos (MOS 03)\nOVH Start-up Program Leader
BEGIN:VALARM
ACTION:DISPLAY
TRIGGER:-PT60M
DESCRIPTION:Invitation - OVHcloud Summit 2019
END:VALARM
END:VEVENT
END:VCALENDAR