BEGIN:VCALENDAR
VERSION:2.0
X-WR-TIMEZONE:Europe/Paris
PRODID:-//Audencia//NONSGML v1.0//EN
CALSCALE:GREGORIAN
BEGIN:VEVENT
SUMMARY:Forum des entreprises - Audencia
DTSTART:20191016T100000
DTEND:20191017T170000
UID:534
DTSTAMP:20260425T205839
LOCATION:Audencia (Gymnase / Atlantic Campus), 8 route de la jonelière, Nantes
DESCRIPTION:2 journées d’échanges avec plus de 70 entreprises\n\nPOURQUOI PARTICIPER ? \nLe forum des entreprises a lieu une fois par an. C'est un événement unique qui vous offre la possibilité de rencontrer une diversité d'entreprises, d'échanger avec des recruteurs et surtout de trouver stage ou emploi !\n\n• RENCONTREZ des entreprises de tous secteurs d’activité présentes en France et à l’étranger.\nGrands groupes / PME / Startups / ONG / Incubateur Centrale Audencia Ensa\n\n• DECROCHEZ des entretiens pendant le forum\nGrâce au JOB DATING organisé avec notre partenaire Seekube.\nPour en profiter, inscrivez-vous dès à présent sur le site \n\n• DEVELOPPEZ votre réseau professionnel\nEchanger pendant 2 jours avec des RH, opérationnels et de nombreux diplômés d’Audencia !\n\nNotez que les entreprises ne seront pas les mêmes entre le jour 1 et le jour 2. Participez aux 2 journées du forum pour plus d'opportunités !\n \nRetrouvez la liste des entreprises présentes sur la brochure de l'événement 
BEGIN:VALARM
ACTION:DISPLAY
TRIGGER:-PT60M
DESCRIPTION:Forum des entreprises - Audencia
END:VALARM
END:VEVENT
END:VCALENDAR