BEGIN:VCALENDAR
VERSION:2.0
X-WR-TIMEZONE:Europe/Paris
PRODID:-//Audencia//NONSGML v1.0//EN
CALSCALE:GREGORIAN
BEGIN:VEVENT
SUMMARY:Afterwork in Madrid with Audencia's Patricia Munoz-King
DTSTART:20191017T190000
DTEND:20191017T210000
UID:531
DTSTAMP:20260425T210003
LOCATION:MAKKILA Calle Fernando VI, 2.  28004, Madrid
DESCRIPTION:On the occasion of Patricia Munoz-King's first visit to Madrid as Audencia's International Employer Relations Manager, alumni are invited to join her for an informal afterwork on:\n \n\n	Date: Thursday 17 October\n	Time: from 19:00 to 21:00\n	At: MAKKILA\n	Address: Calle Fernando VI, 2. 28004, Madrid\n\n\nThis will be a great opportunity to catch up with all the latest news of Audencia and share stories with Patricia about your (and her) home city of Madrid!\n 
BEGIN:VALARM
ACTION:DISPLAY
TRIGGER:-PT60M
DESCRIPTION:Afterwork in Madrid with Audencia's Patricia Munoz-King
END:VALARM
END:VEVENT
END:VCALENDAR