BEGIN:VCALENDAR
VERSION:2.0
X-WR-TIMEZONE:Europe/Paris
PRODID:-//Audencia//NONSGML v1.0//EN
CALSCALE:GREGORIAN
BEGIN:VEVENT
SUMMARY:Dinner in Casablanca, Morocco with Audencia's Grande Ecole director
DTSTART:20191014T200000
DTEND:20191014T220000
UID:530
DTSTAMP:20260425T211356
LOCATION:Casablanca Lieu à définir au plus vite!
DESCRIPTION:Bonjour à tous,\n\nNicolas Arnaud, directeur du programme Grande Ecole d'Audencia Business School se rendra au Maroc mi-octobre pour présenter le programme et rencontrer des partenaires. Il souhaiterait profiter de cette occasion pour rencontrer le réseau des diplômés Audencia au Maroc pour échanger avec eux sur les dernières actualités de l'école et sur d'autres thématiques diverses et variées.\n\nLe dîner se tiendra le lundi 14 octobre à Casablanca dans un lieu qui sera défini prochainement. Pour ceux qui souhaiteraient se joindre à cet événement, merci de me faire part de votre participation par message ou par mail (yassine.belhoussain@gmail.com).\n\nTrès bonne fin de semaine à tous !\nAAM
BEGIN:VALARM
ACTION:DISPLAY
TRIGGER:-PT60M
DESCRIPTION:Dinner in Casablanca, Morocco with Audencia's Grande Ecole director
END:VALARM
END:VEVENT
END:VCALENDAR