BEGIN:VCALENDAR
VERSION:2.0
X-WR-TIMEZONE:Europe/Paris
PRODID:-//Audencia//NONSGML v1.0//EN
CALSCALE:GREGORIAN
BEGIN:VEVENT
SUMMARY:Conférence Paris : Nouvelle consommation des contenus, quelles stratégies pour quelles cibles ?
DTSTART:20170704T190000
DTEND:20170704T220000
UID:53
DTSTAMP:20260425T205724
LOCATION:Maison Audencia Alumni - Campus Paris 95 Rue Falguière 75015 Paris
DESCRIPTION:Adcity by Havas France et Audencia SciencesCom vous invitent à la conférence : \n\nNouvelle consommation des contenus : quelles stratégies pour quelle cibles ? \n\n\n \nEn présence de spécialistes ayant intégré de nouvelles formes de production et de diffusion de contenu dans leur stratégie de communication, cette conférence « regards croisés » s'articulera autour de deux tables-rondes : « Contexte et évolutions de la stratégie de contenu. » et « Comment mettre en œuvre une stratégie de contenu dans ce nouveau contexte ? »\n \n\nLe sujet sera introduit par Julien Pierre - Enseignant chercheur Audencia SciencesCom et Patrick Russo - Responsable Content Studio Consulting Havas Media Group. Puis Karine Patole - Directrice adjointe Adcity by Havas France animera les échanges des témoignages de :\n \n-          Sophie Durand, Directrice de la communication - GROUPE RANDSTAD\n-          Nathalie Charpigny, Directrice conseil HAVAS MEDIA FRANCE en charge de WELEDA\n-          Olivier Douard, Responsable digital - GROUPE ATLANTIC\n \n\n\n 
BEGIN:VALARM
ACTION:DISPLAY
TRIGGER:-PT60M
DESCRIPTION:Conférence Paris : Nouvelle consommation des contenus, quelles stratégies pour quelles cibles ?
END:VALARM
END:VEVENT
END:VCALENDAR