BEGIN:VCALENDAR
VERSION:2.0
X-WR-TIMEZONE:Europe/Paris
PRODID:-//Audencia//NONSGML v1.0//EN
CALSCALE:GREGORIAN
BEGIN:VEVENT
SUMMARY:Atelier Développement Personnel - Mieux Travailler
DTSTART:20191107T193000
DTEND:20191107T213000
UID:528
DTSTAMP:20260425T223846
LOCATION:Audencia Campus Paris 95 rue Falguière Paris 15
DESCRIPTION:Audencia Alumni vous propose un atelier sur le thème de "Mieux Travailler" dans le prolongement de la conférence du développement personnel du 16 octobre.\n\nCelui-ci sera animé par Caroline Gleizes-Chevallier, expert en Feng Shui et Consultante auprès d'artistes.\n\nProgramme de l'atelier :\n- Mise en pratique de conseils personnalisés :\n  Venez avec les photos de votre poste de travail, de votre environnement pro, de votre bureau à la maison, faites un plan sur une feuille A4, indiquez les  orientations géographiques à l'aide d'une boussole, vous recevrez des indications précieuses pour optimiser votre cadre de travail et améliorer vos performances et votre bien être.\n\n\nInscriptions en haut à droite \n- Places limitées\n- Informations complémentaires : nushad.merchant@audencia.com \n\n\nC. S Gleizes Expert Feng Shui et Méditation Active, Consultante auprès d'artistes. 20 ans au service du Luxe dans le secteur Haute Couture chez LVMH et depuis plus de 10 ans dans le conseil en gestion des espaces intérieurs. Auteur de 3 livres sur le feng shui aux éditions Eyrolles - une trentaine de publications à retrouver sur www.femininbio.com et sur son site www.moninterieurfengshui.com\n\n\nA la fin d'atelier, il y aura la possibilité d'acheter les deux livres, Heureux au boulot (17,90€ ) et le Feng Shui (10€) (chèque ou espèces).
BEGIN:VALARM
ACTION:DISPLAY
TRIGGER:-PT60M
DESCRIPTION:Atelier Développement Personnel - Mieux Travailler
END:VALARM
END:VEVENT
END:VCALENDAR