BEGIN:VCALENDAR
VERSION:2.0
X-WR-TIMEZONE:Europe/Paris
PRODID:-//Audencia//NONSGML v1.0//EN
CALSCALE:GREGORIAN
BEGIN:VEVENT
SUMMARY:Présentation - MS Management de la Filière Musicale & Campus M
DTSTART:20191002T090000
DTEND:20191002T140000
UID:527
DTSTAMP:20260425T210003
LOCATION:Audencia, Rue Falguière, Paris
DESCRIPTION:Nous avons le plaisir de vous inviter à la présentation de notre partenaire CAMPUS M du Mastère Management de la Filière Musicale lors de la matinée du 2 octobre.\n \nCe sera l’occasion d’un temps d’échange avec les professionnels et les étudiants des enjeux et attendus de cette formation.\n \nAu plaisir de vous rencontrer,\nCarole Le Rendu\nDirectrice MS MFM
BEGIN:VALARM
ACTION:DISPLAY
TRIGGER:-PT60M
DESCRIPTION:Présentation - MS Management de la Filière Musicale & Campus M
END:VALARM
END:VEVENT
END:VCALENDAR