BEGIN:VCALENDAR
VERSION:2.0
X-WR-TIMEZONE:Europe/Paris
PRODID:-//Audencia//NONSGML v1.0//EN
CALSCALE:GREGORIAN
BEGIN:VEVENT
SUMMARY:Club Culture & Management - Algorithme, le nouveau maître de la culture ?
DTSTART:20191009T183000
DTEND:20191009T203000
UID:526
DTSTAMP:20260425T205850
LOCATION:Hôtel de L'Industrie,  Place Saint-Germain des Prés, Paris
DESCRIPTION:L'Hôtel de l'Industrie nous ouvre ses portes le mercredi 9 octobre pour un débat sur l'algorithme dans les industries créatives.\n\nJamais la Culture n’a été aussi accessible et partagée. Les plateformes d’abonnement offrent un choix illimité et les propositions de contenu « sur mesure » élargissent notre champ culturel. Mais sommes-nous vraiment libres de nos choix ? Notre singularité est-elle réelle ? L’ombre du Big Data plannerait-elle aussi sur tous nos contenus choisis ?\n\nCe débat nous invite à plonger dans la mécanique algorithmique qui domine progressivement le monde culturel, guidés par des spécialistes et acteurs contemporains.\n\n\n\n\n> En savoir plus et réserver\n\n \n\nAu plaisir de vous retrouver,\nL'équipe du club Culture & Management
BEGIN:VALARM
ACTION:DISPLAY
TRIGGER:-PT60M
DESCRIPTION:Club Culture & Management - Algorithme, le nouveau maître de la culture ?
END:VALARM
END:VEVENT
END:VCALENDAR