BEGIN:VCALENDAR
VERSION:2.0
X-WR-TIMEZONE:Europe/Paris
PRODID:-//Audencia//NONSGML v1.0//EN
CALSCALE:GREGORIAN
BEGIN:VEVENT
SUMMARY:Club Communication & Média - Afterwork
DTSTART:20191002T193000
DTEND:20191002T213000
UID:525
DTSTAMP:20260425T210120
LOCATION:Chez Gab's, Rue Jean-Jacques Rousseau, Paris 75001
DESCRIPTION:Chers membres du groupe Com’ & Médias,\n\nChose promise, chose due ! Nushad et moi-même avons le plaisir de faire votre rencontre le 2 octobre 2019 dans un endroit sympa à Paris.\nCe moment sera l’occasion à tout·e·s de partager sur nos vies parisiennes post Audencia autour d’un verre ou deux, chiche ?\n\nAlors, inscrivez-vous nombreux ! \n\nBien à vous,\nHugo, Ambassadeur du Club (Scom 18) et Nushad, Audencia Alumni (IMM 16)
BEGIN:VALARM
ACTION:DISPLAY
TRIGGER:-PT60M
DESCRIPTION:Club Communication & Média - Afterwork
END:VALARM
END:VEVENT
END:VCALENDAR