BEGIN:VCALENDAR
VERSION:2.0
X-WR-TIMEZONE:Europe/Paris
PRODID:-//Audencia//NONSGML v1.0//EN
CALSCALE:GREGORIAN
BEGIN:VEVENT
SUMMARY:Afterwork in Singapore
DTSTART:20190925T190000
DTEND:20190925T213000
UID:524
DTSTAMP:20260425T210030
LOCATION:Lucha Loco 15 Duxton Hill  Tanjong Pagar Singapore 089598
DESCRIPTION:Bonjour à tous,\n\nUn petit message pour vous préciser les détails concernant notre prochain event "Audencia Alumni - Chapter Singapore" :\n\n- Date: 25 septembre 2019\n\n- Heure: a partir de 7.00pm\n\n- Lieu: Lucha Loco\n\n- Adresse: 15 Duxton Hill, Tanjong Pagar Singapore 089598\n\n\nEnfin, pour ceux qui n'ont pas encore eu la chance de le recevoir, cet évènement sera aussi l'occasion pour vous de récupérer votre T shirt Audencia Alumni, créé par l'Ecole\n\n\nA très vite!\n\nMerci,\n\nL'équipe Audencia Alumni\n\nJosselin / Charles-Antoine / Matthieu
BEGIN:VALARM
ACTION:DISPLAY
TRIGGER:-PT60M
DESCRIPTION:Afterwork in Singapore
END:VALARM
END:VEVENT
END:VCALENDAR