BEGIN:VCALENDAR
VERSION:2.0
X-WR-TIMEZONE:Europe/Paris
PRODID:-//Audencia//NONSGML v1.0//EN
CALSCALE:GREGORIAN
BEGIN:VEVENT
SUMMARY:Frogs Cup in New York, USA
DTSTART:20191006T133000
DTEND:20191006T180000
UID:523
DTSTAMP:20260425T210010
LOCATION:North Cove Yacht Harbor  Battery Park City New York
DESCRIPTION:Ahoy Sailors!\n\nIt’s that time of the year again: The 2019 Manhattan Frogs Cup will take place on Sunday October 6. Can we have a 100% Audencia team like last year??\n\nJoin the French community and their friends in New York for a super fun amateur regatta. No sailing experience required. We will have a prize for the top teams as well as for the team showing « le best French flair ».\n\nWe will board the boats at North Cove marina in Battery Park City at 1:45pm (Be sure to be there by 1:30PM for the sailboats allocation)\nAfter the race, we will celebrate with a prize giving cocktail party at Tartinery by the marina.\n \nTo secure your participation to the race or to join us at the cocktail party\nregister now\n\nThe French American Yacht Club team\nContact@FrenchAmericanYC.org\n \n
BEGIN:VALARM
ACTION:DISPLAY
TRIGGER:-PT60M
DESCRIPTION:Frogs Cup in New York, USA
END:VALARM
END:VEVENT
END:VCALENDAR