BEGIN:VCALENDAR
VERSION:2.0
X-WR-TIMEZONE:Europe/Paris
PRODID:-//Audencia//NONSGML v1.0//EN
CALSCALE:GREGORIAN
BEGIN:VEVENT
SUMMARY:MOS - Invitation - Projection - Tous en selle
DTSTART:20190926T180000
DTEND:20190926T230000
UID:522
DTSTAMP:20260425T223812
LOCATION:Le Grand Rex 1 Boulevard Poissonnière 75002 Paris
DESCRIPTION:\nLe Grand Rex, accueillera le jeudi 26 septembre 2019 la première édition de « TOUS EN SELLE ! », avec comme parrain Bernard Hinault.\n \nPremier événement intégralement dédié au Vélo sur Grand Écran. Trois heures trente d’images au travers de documentaires venant du monde entier.\nLe sport, le dépassement de soi, la performance mais aussi les grands espaces, la découverte, la route, la ville, la montagne, l’aventure, l’extrême, le life style, ... seront à l’écran à travers toutes les pratiques existantes : du BMX au mountain bike en passant par le fixie, la route, l’indoor... \n\nSi vous êtes intéressé(e), merci de vous inscrire ici.\n 
BEGIN:VALARM
ACTION:DISPLAY
TRIGGER:-PT60M
DESCRIPTION:MOS - Invitation - Projection - Tous en selle
END:VALARM
END:VEVENT
END:VCALENDAR