BEGIN:VCALENDAR
VERSION:2.0
X-WR-TIMEZONE:Europe/Paris
PRODID:-//Audencia//NONSGML v1.0//EN
CALSCALE:GREGORIAN
BEGIN:VEVENT
SUMMARY:Afterwork in Algiers, Algeria
DTSTART:20190917T183000
DTEND:20190917T210000
UID:521
DTSTAMP:20260425T210448
LOCATION:Villa Les Sources Bir Mourad Rais Algiers
DESCRIPTION:Audencia alumni and friends are gathering for an informal afterwork. Come and join them from 18:30 to 21:00 on Tuesday 17 September at:\n\nVilla Les Sources\nBir Mourad Rais\nAlgiers\n\nPlease register to confirm your presence!
BEGIN:VALARM
ACTION:DISPLAY
TRIGGER:-PT60M
DESCRIPTION:Afterwork in Algiers, Algeria
END:VALARM
END:VEVENT
END:VCALENDAR