BEGIN:VCALENDAR
VERSION:2.0
X-WR-TIMEZONE:Europe/Paris
PRODID:-//Audencia//NONSGML v1.0//EN
CALSCALE:GREGORIAN
BEGIN:VEVENT
SUMMARY:REPORTE - Club Culture & Management - Gala 20 ans : Anniversaire et Lancement du Prix Innovation C&M Saison 5
DTSTART:20191204T190000
DTEND:20191204T230000
UID:520
DTSTAMP:20260425T205716
LOCATION:Le 104 Rue Curial, Paris 19e
DESCRIPTION:Le club Culture et Management souffle ses 20 bougies et souhaite réunir sa communauté pour fêter l'occasion !\n\nRéunis dans un lieu prestigieux au coeur de Paris, cet événement premettra de faire le bilan sur les débats passés et de confronter les tendances annoncées avec la réalité des secteurs culturels d'aujourd'hui... pour peut-être réorienter ces tendances pour demain ?\n\nNous en profiterons également pour lancer la saison 5 du Prix Innovation Culture et Management (PICeM) en présence de membres du jury et d'anciens lauréats au prix !\n\nNombre de places limitées.\n\nAdhérents, la pré inscription vous est réservée, inscrivez vous vite : https://bit.ly/2lASvnF\n\n
BEGIN:VALARM
ACTION:DISPLAY
TRIGGER:-PT60M
DESCRIPTION:REPORTE - Club Culture & Management - Gala 20 ans : Anniversaire et Lancement du Prix Innovation C&M Saison 5
END:VALARM
END:VEVENT
END:VCALENDAR