BEGIN:VCALENDAR
VERSION:2.0
X-WR-TIMEZONE:Europe/Paris
PRODID:-//Audencia//NONSGML v1.0//EN
CALSCALE:GREGORIAN
BEGIN:VEVENT
SUMMARY:Club Culture & Management - Débat : Se former pour piloter sa carrière ?
DTSTART:20190918T190000
DTEND:20190918T200000
UID:519
DTSTAMP:20260425T210008
LOCATION:Fondation d'entreprise Ricard
DESCRIPTION:Dans un marché aussi concurrentiel que celui de la culture, il est pertinent de s’interroger sur l’évolution de carrière dans ce secteur, notamment un an après la promulgation de la loi Avenir professionnel. Aujourd’hui, une formation initiale en management culturel ne suffit plus.\n\nL’apprentissage en continu par la formation, les mooc, le coaching florissent pour répondre aux besoins grandissants des professionnels à la recherche d’évolution et de perspectives nouvelles : évoluer vers un autre métier, se reconvertir, devenir manager, créer sa propre entreprise – autant de tendances qui pointent du doigt quelques questions :\n \n\n\n	Pourquoi se former ?\n	Quelles sont les difficultés rencontrées par les professionnels du secteur dans leur souhait de formation ?\n	Quels sont les nouveaux leviers pour piloter sa carrière ? Sont-ils efficaces ?\n\n\nPour s'inscire, cliquez ici : https://bit.ly/2lYMnpx
BEGIN:VALARM
ACTION:DISPLAY
TRIGGER:-PT60M
DESCRIPTION:Club Culture & Management - Débat : Se former pour piloter sa carrière ?
END:VALARM
END:VEVENT
END:VCALENDAR