BEGIN:VCALENDAR
VERSION:2.0
X-WR-TIMEZONE:Europe/Paris
PRODID:-//Audencia//NONSGML v1.0//EN
CALSCALE:GREGORIAN
BEGIN:VEVENT
SUMMARY:Winetasting in London, UK
DTSTART:20191009T190000
DTEND:20191009T213000
UID:518
DTSTAMP:20260425T210448
LOCATION:Ziggy's Bar  Inside Hotel Café Royal, 10 Air St, Soho London W1B 4DY
DESCRIPTION:\n\nLondon alumni have a great opportunity to taste some fine wine at the Château de Pommard winetasting. \n\nThere are 30 places available for you to come and test your tastebuds on Wednesday 9 October from 19:00 to 21:30 at Ziggy's bar, inside the Hotel Café Royal,10 Air St, Soho, London W1B 4DY.\n\nCost: 10€ per person\nRegister now!\n 
BEGIN:VALARM
ACTION:DISPLAY
TRIGGER:-PT60M
DESCRIPTION:Winetasting in London, UK
END:VALARM
END:VEVENT
END:VCALENDAR