BEGIN:VCALENDAR
VERSION:2.0
X-WR-TIMEZONE:Europe/Paris
PRODID:-//Audencia//NONSGML v1.0//EN
CALSCALE:GREGORIAN
BEGIN:VEVENT
SUMMARY:Gathering of international Alumni working in France
DTSTART:20190926T183000
DTEND:20190926T210000
UID:517
DTSTAMP:20260425T210151
LOCATION:Campus Paris
DESCRIPTION:The Audencia Career Center and Audencia Alumni are delighted to invite you to a gathering of international Alumni working in France.\n \nWe would like you to share your experience, network with peers and help us keep abreast with the job market trends.\n \nIn preparation for the official launch of the Audencia guide to working in France “Go France!” we are inviting  graduates from Audencia working for top recruiters of international profiles to share the keys to landing work in France and to discuss the main challenges and unmask the myths and realities of living in la belle France!”
BEGIN:VALARM
ACTION:DISPLAY
TRIGGER:-PT60M
DESCRIPTION:Gathering of international Alumni working in France
END:VALARM
END:VEVENT
END:VCALENDAR