BEGIN:VCALENDAR
VERSION:2.0
X-WR-TIMEZONE:Europe/Paris
PRODID:-//Audencia//NONSGML v1.0//EN
CALSCALE:GREGORIAN
BEGIN:VEVENT
SUMMARY:Soirée de passation MOS
DTSTART:20190924T191500
DTEND:20190924T220000
UID:515
DTSTAMP:20260425T205838
LOCATION:Campus Paris
DESCRIPTION:\nLe mardi 24 septembre 2019 marque la rentrée parisienne de la promotion 2019-2020 du MOS. A cette occasion, la promotion précédente (18-19) revient sur le campus pour rencontrer les nouveaux venus.\n\nNous serions également ravis de compter parmi nous les anciens diplômés du MOS. Au programme, un moment d‘échanges et de partage autour d’un verre sur le campus parisien.\n\nRendez-vous donc le 24/09 à partir de 19h15 sur le campus parisien d’Audencia, au 95, rue falguière 75015 Paris.\n \nA très bientôt,\nEtienne Cassagne\nDirecteur du MOS
BEGIN:VALARM
ACTION:DISPLAY
TRIGGER:-PT60M
DESCRIPTION:Soirée de passation MOS
END:VALARM
END:VEVENT
END:VCALENDAR