BEGIN:VCALENDAR
VERSION:2.0
X-WR-TIMEZONE:Europe/Paris
PRODID:-//Audencia//NONSGML v1.0//EN
CALSCALE:GREGORIAN
BEGIN:VEVENT
SUMMARY:Conférence - Le bien-être et la productivité au travail
DTSTART:20191016T191500
DTEND:20191016T211500
UID:514
DTSTAMP:20260425T205904
LOCATION:Campus Paris, 95 rue Falguière,  75015 Paris
DESCRIPTION:Impact de la gestion de l'espace de travail - Stratégies sur le bien-être et la productivité\n\nPourquoi certains bureaux rendent fou alors que d'autres rendent les salariés plus heureux et plus performants ?\n\n\nC'est le thème qu'aborde Caroline Gleizes-Chevallier, expert en Feng shui et Consultante auprès d'artistes, le mercredi 16 octobre à 19h15.\nLe sujet est développé sur la base d'une étude de S.A. Haslam et G. Knight - université d'Exeter - dans la très célèbre revue "Scientific American Mind" parue en 2010.\n\nAxes abordés :\n- Principes de la gestion de vos espaces\n- Mise en valeur d'un espace en particulier avec les plantes et les objets d'art\n- Impact des stratégies d'investissement des lieux et de décoration sur le bien-être et la performance des salariés\n\nCaroline sera accompagnée de Blandine Etienne-Kahn, artiste peintre et diplômée d'Audencia (GE 94), qui présentera ses oeuvres.\n\nPour vous inscrire, cliquez sur le bouton "S'inscrire" en haut à droite.\n\n \n\n\nC. S Gleizes Expert Feng Shui et Méditation Active, Consultante auprès d'artistes. 20 ans au service du Luxe dans le secteur Haute Couture chez LVMH et depuis plus de 10 ans dans le conseil en gestion des espaces intérieurs. Auteur de 3 livres sur le feng shui aux éditions Eyrolles - une trentaine de publications à retrouver sur www.femininbio.com et sur son site www.moninterieurfengshui.com
BEGIN:VALARM
ACTION:DISPLAY
TRIGGER:-PT60M
DESCRIPTION:Conférence - Le bien-être et la productivité au travail
END:VALARM
END:VEVENT
END:VCALENDAR