BEGIN:VCALENDAR
VERSION:2.0
X-WR-TIMEZONE:Europe/Paris
PRODID:-//Audencia//NONSGML v1.0//EN
CALSCALE:GREGORIAN
BEGIN:VEVENT
SUMMARY:French Aussie drinks in Melbourne, Australia
DTSTART:20190919T180000
DTEND:20190919T200000
UID:512
DTSTAMP:20260425T205903
LOCATION:Sofitel on Collins Atrium Bar on 35, Level 35 25 Collins Street Melbourne, VIC 3000
DESCRIPTION:French Aussie drinks in Melbourne!\n\n\nFrench Aussie Drinks were created in March 2017 by Karine Pham and Xavier Heyman in Sydney.\n\nKarine and Xavier initially wanted to network with the French Australian business community and to meet new people.\n\nThen, they gathered other organisations such as the French Australian Chamber of Commerce & Industry (FACCI), the French Australian Lawyers Society (FALS), French Business School Alumni in Australia (FBSAA), Business France, Le Courrier Australien & L'Union des Français à l'Etranger (UFE) to run the event on the last Thursday of every other month*.\n\nFrench Aussie Drinks are organised in Melbourne and Sydney.\n \n\nThe event is free and everyone is welcome but registration via Eventbrite is required:\nREGISTER HERE\n\n\n\nFrench Aussie Drinks is about networking, about people, about meeting new people.\nThe event is free and everyone is welcome; but you must register before attending. Note that drinks and food are payable at the bar ($10 for alcoholic drinks and $6 for non-alcoholic drinks)\n\nTo contact the founders Karine Pham & Xavier Heyman : frenchaussiedrinks@gmail.com\n\nAs of today, French Aussie Drinks are proudly supported by Business France, FACCI, FALS, FBSAA, Le Courrier Australien and Union des Français à l'Etranger. \n\n\n*Due to public holidays, French Aussie Drinks (Melbourne) is exceptionally scheduled on the 3rd Thursday of the month!
BEGIN:VALARM
ACTION:DISPLAY
TRIGGER:-PT60M
DESCRIPTION:French Aussie drinks in Melbourne, Australia
END:VALARM
END:VEVENT
END:VCALENDAR