BEGIN:VCALENDAR
VERSION:2.0
X-WR-TIMEZONE:Europe/Paris
PRODID:-//Audencia//NONSGML v1.0//EN
CALSCALE:GREGORIAN
BEGIN:VEVENT
SUMMARY:Club Audencia Pour Elles - Soirée Œnologie - Femme et Audace : une balade entre Vins et Arts
DTSTART:20190930T200000
DTEND:20190930T220000
UID:511
DTSTAMP:20260425T223651
LOCATION:Hôtel Vernet (Paris 8e)
DESCRIPTION:Le Club Audencia pour Elles a le plaisir de vous inviter au premier événement de la rentrée.\nVenez partager un moment convivial lors d’une soirée prestigieuse avec pour thématique :\n \n\n« Femme et Audace : une balade entre Vins et Arts »\n\nLe lundi 30 septembre à 20h à l’Hôtel Vernet (Paris 8e)\n \n\nAu programme, une soirée conçue comme une balade sensorielle, pendant laquelle vous dégusterez 4 vins et 1 champagne de vignerons, qui seront en accord avec les petites bouchées élaborées par Monsieur Richard Robe, le talentueux chef de l’Hôtel Vernet.\n \nIl sera question de vins, d’émotions, d’arts, de l’Audace et de la Femme…\nUn moment riche en échanges et en découvertes, féminin, et audacieux, à l’image du Club Audencia pour Elles.\n \nCette soirée sera animée par Sophie Roulé (GE 01), Fondatrice de Involuté Vins & Evènements, et du Club de Vins Féminin Involuté.\n \nPour plus d’informations, contactez Nushad Merchant (nushad.merchant@audencia.com), Responsable du Développement Audencia Alumni à Paris.\n \nAu plaisir de vous y retrouver et audacieusement à vous,\nClub Audencia pour Elles\n\n\n\n\nDiplômée en lettres, école de commerce et WSET (diplôme international en vins), Sophie Roulé (GE 01) est passionnée d’Art et du Terroir. Forte d’un palais affiné au fil des années et des dégustations en France et à l’étranger, elle a su tisser des relations privilégiées avec des maisons de renom ainsi qu’avec des domaines familiaux d’exception. Elle propose à ses clients une approche différente du vin, professionnelle et pour autant simple, toujours élégante,  basée sur les sens et les émotions. Elle a fait du dialogue entre Vin et Art sa spécialité.
BEGIN:VALARM
ACTION:DISPLAY
TRIGGER:-PT60M
DESCRIPTION:Club Audencia Pour Elles - Soirée Œnologie - Femme et Audace : une balade entre Vins et Arts
END:VALARM
END:VEVENT
END:VCALENDAR