BEGIN:VCALENDAR
VERSION:2.0
X-WR-TIMEZONE:Europe/Paris
PRODID:-//Audencia//NONSGML v1.0//EN
CALSCALE:GREGORIAN
BEGIN:VEVENT
SUMMARY:French Aussie drinks in Sydney, Australia
DTSTART:20190925T173000
DTEND:20190925T203000
UID:510
DTSTAMP:20260425T211354
LOCATION:Sofitel Sydney Wentworth The Garden Court Restaurant, Level 5 61-101 Phillip Street Sydney
DESCRIPTION:French Aussie drinks in Sydney!\n\n\nFrench Aussie Drinks was created by Karine Pham and Xavier Heyman in 2017.\n\nKarine and Xavier wanted to network with the French-Australian business community and meet new people. Then, they gathered other organisations such as the French-Australian Chamber of Commerce & Industry (FACCI), the French Australian Lawyers Society (FALS), French Business School Alumni in Australia (FBSAA), Business France, Le Courrier Australien & L'Union des Français à l'Etranger (UFE) to join the event.\n\nFrench Aussie Drinks is held on the last Thursday of each month* and is organised in Sydney and Melbourne.\n \n\nThe event is free and everyone is welcome but registration via Eventbrite is required:\nREGISTER HERE\n\n\n\nOne complimentary drink is offered to the first guests (arrival before 6.30pm). In addition, $6 happy hour drinks are until 7pm on a selection of beers and wines. After 7pm, drinks are at $10 on a selection of beers and wines.\n\nTo contact Karine and Xavier: frenchaussiedrinks@gmail.com\n\n____________________________________________________________________\n\nFrench Aussie Drinks is proudly supported by Business France, FACCI, FALS, FBSAA, Le Courrier Australien and UFE.\n\n*Exceptionally this Special Event is on the last Wednesday of September!
BEGIN:VALARM
ACTION:DISPLAY
TRIGGER:-PT60M
DESCRIPTION:French Aussie drinks in Sydney, Australia
END:VALARM
END:VEVENT
END:VCALENDAR