BEGIN:VCALENDAR
VERSION:2.0
X-WR-TIMEZONE:Europe/Paris
PRODID:-//Audencia//NONSGML v1.0//EN
CALSCALE:GREGORIAN
BEGIN:VEVENT
SUMMARY:Assemblée Générale de l'Association Audencia Alumni
DTSTART:20170608T193000
DTEND:20170608T230000
UID:51
DTSTAMP:20260425T205957
LOCATION:Audencia Paris
DESCRIPTION:Chers Audenciens,\n \nGuillaume JOSSELIN, Président du Conseil de Surveillance de l’Association Audencia Alumni et moi-même, Présidente du Bureau, avons l’honneur et la joie de vous convier à la prochaine Assemblée Générale de l’Association qui aura lieu le jeudi 08 juin à 19h30 au campus Paris situé 95 rue Falguière.\n \nL’AG de l’Association est l’occasion de vous présenter le bilan des activités du Réseau, mais aussi de vous retrouver entre pairs de toutes générations, d’écouter mais aussi de partager vos idées, points de vue et ainsi de participer à la vie de notre Réseau. Nous comptons donc sur votre présence !\n \nAu programme :\n\n	Présentation du bilan 2016 d’Audencia Alumni\n	Vote du rapport moral et financier\n	Vote de la gouvernance\n	Cocktail Réseau\n\n \nL'AG est également le moment pour renouveler nos instances de gouvernance. Vous pouvez poser votre candidature pour participer au Conseil de surveillance ou au Bureau en cliquant ici\n(date limite de dépôt des candidatures : 02 juin 2017)\n\n ​Petit rappel : pour voter lors de l’AG, vous devez être adhérent.\nPour cela, connectez-vous à votre compte Together dans la rubrique Mon compte.\n \nSi vous ne pouvez pas venir, faites-vous représenter par un autre diplômé en envoyant votre procuration, disponible ici.\n\n \n\nEstelle MARIE (GE 04)\nPrésidente Audencia Alumni\n\nDear Audencians,\n \nGuillaume Josselin, Chairman of the Supervisory Board of the Audencia Alumni Association, and I, have the pleasure of inviting you to the next general meeting which will take place at 7:30 pm on Thursday 8th June at the Paris campus located 95 rue Falguière.\n \nThe general meeting of the Association is an opportunity for you to have an overview of the activities of the network, but also to meet your peers from all generations, to listen but also to share your ideas and viewpoints, thus participating in the network yourselves. We look forward to seeing you!\n \nOn the agenda:\n\n	Presentation of Audencia Alumni activities in 2016\n	Vote on the annual report and financial statement\n	Vote on governance\n	Network cocktail\n\n \nThe general meeting is also the time to renew our governance bodies. You can apply to join the Supervisory Board or the “bureau” (steering committee) by clicking here\n(Deadline for submission of applications: 2nd June 2017)\n \nReminder: To vote at the general meeting, you must be a member. \nTo do this, log in to your Together account under My Account\n \nIf you cannot attend, have yourself represented by another alum by sending your proxy, available here.\n\nEstelle MARIE (GE 04)\nPresident, Audencia Alumni
BEGIN:VALARM
ACTION:DISPLAY
TRIGGER:-PT60M
DESCRIPTION:Assemblée Générale de l'Association Audencia Alumni
END:VALARM
END:VEVENT
END:VCALENDAR