BEGIN:VCALENDAR
VERSION:2.0
X-WR-TIMEZONE:Europe/Paris
PRODID:-//Audencia//NONSGML v1.0//EN
CALSCALE:GREGORIAN
BEGIN:VEVENT
SUMMARY:Afterwork in Mexico City
DTSTART:20190925T193000
DTEND:20190925T210000
UID:509
DTSTAMP:20260425T210010
LOCATION:Petanca Roma Colima 124 e Col Roma Nte. 06700 Ciudad de México
DESCRIPTION:Audencians in Mexico City are getting together on Wednesday 25 September!\n\nCome and join them from 19:30 to 21:00 for an informal gathering at Petanca Roma (Colima 124 e Col, Roma Nte., 06700 Ciudad de México, CDMX)
BEGIN:VALARM
ACTION:DISPLAY
TRIGGER:-PT60M
DESCRIPTION:Afterwork in Mexico City
END:VALARM
END:VEVENT
END:VCALENDAR