BEGIN:VCALENDAR
VERSION:2.0
X-WR-TIMEZONE:Europe/Paris
PRODID:-//Audencia//NONSGML v1.0//EN
CALSCALE:GREGORIAN
BEGIN:VEVENT
SUMMARY:Afterwork in Lagos, Nigeria
DTSTART:20190903T200000
DTEND:20190903T213000
UID:508
DTSTAMP:20260425T223814
LOCATION:The Lagos Continental Hotel Plot 52A, Kofo Abayomi Street, Lagos Nigeria
DESCRIPTION:Audencia's Michelle Cristy will be coming to Lagos in September!\n\nJoin her for an informal afterwork gathering of alumni and friends on Tuesday 3 September at 8pm at the The Lagos Continental Hotel, Plot 52A, Kofo Abayomi Street, Lagos\n\n \n\n** Can you help?**\nMichelle will be attending a student fair at same hotel - The Lagos Continental - Plot 52A, Kofo Abayomi Street on:\n\n\n	Tuesday 3 September (MASTERS) 2:45pm-7:40pm\n	Wednesday 4 September (MBA) 5:00pm-10:00pm\n\nAlumni who can come and join her to help out with meeting potential candidates would be most welcome.\nInterested? Available? Drop Michelle a line (mcristy@audencia.com) to discuss!\n
BEGIN:VALARM
ACTION:DISPLAY
TRIGGER:-PT60M
DESCRIPTION:Afterwork in Lagos, Nigeria
END:VALARM
END:VEVENT
END:VCALENDAR