BEGIN:VCALENDAR
VERSION:2.0
X-WR-TIMEZONE:Europe/Paris
PRODID:-//Audencia//NONSGML v1.0//EN
CALSCALE:GREGORIAN
BEGIN:VEVENT
SUMMARY:Afterwork in Accra, Ghana
DTSTART:20190905T200000
DTEND:20190905T213000
UID:507
DTSTAMP:20260425T210007
LOCATION:NEW VENUE: Tang Palace Hotel Borstal Avenue, Near Gold House South Airport Residential Area Accra - Ghana
DESCRIPTION:Audencia's Michelle Cristy will be coming to Accra in September!\n\nJoin her for an informal afterwork gathering of alumni and friends on Thursday 5 September at 7pm at the Tang Palace Hotel, Borstal Avenue, Near Gold House, South Airport Residential Area, Accra\n\n \n\n** Can you help?**\nMichelle will be attending a student fair at the Mövenpick Ambassador H, Independence Avenue, Accra on Saturday 7 September from 10:30am to 4:00pm\nAny alumni who can come and join her to help out with meeting potential candidates would be very welcome.\nInterested? Available? Drop Michelle a line (mcristy@audencia.com) to discuss!\n
BEGIN:VALARM
ACTION:DISPLAY
TRIGGER:-PT60M
DESCRIPTION:Afterwork in Accra, Ghana
END:VALARM
END:VEVENT
END:VCALENDAR