BEGIN:VCALENDAR
VERSION:2.0
X-WR-TIMEZONE:Europe/Paris
PRODID:-//Audencia//NONSGML v1.0//EN
CALSCALE:GREGORIAN
BEGIN:VEVENT
SUMMARY:Afterwork in Nairobi, Kenya
DTSTART:20190911T193000
DTEND:20190911T210000
UID:506
DTSTAMP:20260425T210656
LOCATION:Nyama Mama Delta Towers, Nairobi, Kenya
DESCRIPTION:Audencia's Michelle Cristy is coming to Kenya in September!\n\nCome and join her for an informal afterwork gathering of alumni and friends on Wednesday 11 September from 7.30pm, at Nyama Mama at the \nDelta Towers, Nairobi.
BEGIN:VALARM
ACTION:DISPLAY
TRIGGER:-PT60M
DESCRIPTION:Afterwork in Nairobi, Kenya
END:VALARM
END:VEVENT
END:VCALENDAR