BEGIN:VCALENDAR
VERSION:2.0
X-WR-TIMEZONE:Europe/Paris
PRODID:-//Audencia//NONSGML v1.0//EN
CALSCALE:GREGORIAN
BEGIN:VEVENT
SUMMARY:Afterwork with Audencia's Michelle Cristy in Johannesburg, South Africa
DTSTART:20190827T193000
DTEND:20190827T203000
UID:505
DTSTAMP:20260425T210003
LOCATION:Hyatt Regency Johannesburg  191 Oxford Rd, Rosebank Johannesburg 2196 South Africa
DESCRIPTION:First alumni afterwork in Johannesburg!\n\nOn the first leg of her trip to South Africa, Audencia's Michelle Cristy will be coming to Johannesburg. This is a golden opportunity to meet up with alumni and Michelle would be pleased if you could join her for an informal afterwork drink:\n\nDate: Tuesday 27 August\nTime: 19:30\nVenue: Hyatt Regency Johannesburg, 191 Oxford Rd, Rosebank\n \n\n** Can you help?**\nMichelle will be attending a student fair at the same hotel (Hyatt Regency Johannesburg) the following day, Wednesday 28 August from 17:00 to 22:00.\nAny alumni who can come and join her to help out with meeting potential candidates would be very welcome.\nInterested? Available? Drop Michelle a line (mcristy@audencia.com) to discuss!\n\n\n 
BEGIN:VALARM
ACTION:DISPLAY
TRIGGER:-PT60M
DESCRIPTION:Afterwork with Audencia's Michelle Cristy in Johannesburg, South Africa
END:VALARM
END:VEVENT
END:VCALENDAR