BEGIN:VCALENDAR
VERSION:2.0
X-WR-TIMEZONE:Europe/Paris
PRODID:-//Audencia//NONSGML v1.0//EN
CALSCALE:GREGORIAN
BEGIN:VEVENT
SUMMARY:Dinner with Audencia's Michelle Cristy in Cape Town, South Africa
DTSTART:20190831T193000
DTEND:20190831T220000
UID:504
DTSTAMP:20260425T205820
LOCATION:PLANT 8 Buiten St Cape Town 8000 South Africa
DESCRIPTION:Don't miss it - there's going to be an alumni dinner in Cape Town!\n\nMichelle will be visiting Cape Town to attend a student fair and would be delighted to connect with alumni in the city. Following the hugely successful dinner earlier this year, alumnus Pierre Lambret's restaurant Plant in central Cape Town will again be the chosen venue!\n\nDate: Saturday 31 August\nTime: from 19:30 to 22:00\nLocation: Plant\nAddress: 8 Buiten St, Cape Town City Centre\n 
BEGIN:VALARM
ACTION:DISPLAY
TRIGGER:-PT60M
DESCRIPTION:Dinner with Audencia's Michelle Cristy in Cape Town, South Africa
END:VALARM
END:VEVENT
END:VCALENDAR