BEGIN:VCALENDAR
VERSION:2.0
X-WR-TIMEZONE:Europe/Paris
PRODID:-//Audencia//NONSGML v1.0//EN
CALSCALE:GREGORIAN
BEGIN:VEVENT
SUMMARY:AMBA Connect in London, UK
DTSTART:20191023T183000
DTEND:20191023T213000
UID:503
DTSTAMP:20260425T205814
LOCATION:Foyles - Level 6 107 Charing Cross Road London WC2H 0DT
DESCRIPTION:AMBA Connect events is a series of member-focused, evening events designed to bring together student and graduate members from our ever-growing network of MBAs, MBMs and DBAs around the world.\n\nNetwork, connect, engage and inspire\nThis October we find ourselves in London, and we invite our members from around Europe and beyond to join us on Wednesday 23 October from 18:30 to 21:30 for an evening of high level discussions, informative expert opinion and invaluable networking opportunities. \n\nTopic: Buzz words and blind spots – organisations that fail to address diversity risk being left behind\nDiversity and inclusion (D&I) makes good business sense, in terms of profit and growth – but why are leaders still failing to realise this?\n\nJoin AMBA’s expert panel in London, who will explore burning questions such as:\n\n	Is the future diverse? \n	What is diversity in a modern workplace?\n	What are the strands of diversity we often forget?\n\nFrom social mobility and unconscious bias to invisible diversity, neurodiversity and unconscious sabotage, hear from business leaders who have crafted successful careers and are committed to taking D&I beyond a ‘tick-box exercise’ to a holistic practice in every area of business life.\n\nAbout the venue\nThe Foyles flagship store houses a range of over 200,000 different titles on four miles (6.5km) of shelves. With 37,000 square feet of retail space, spread across eight alternating foot-plates over four floors, it is the largest bookshop to have opened in the UK.\n\n \nREGISTER HERE\n\n\nProgramme\n18:30 – 19:00    Registration Opens\n19:00 – 19:05    Welcome \n19:05 – 19:30     Ice Breaker \n19:30 – 20:30     Speaker session\n20:30 – 20:50    AMBA Membership Presentation\n20:50 – 21:30    Networking and refreshments\n\n\n\n \nDid you graduate from an AMBA-accredited programme at Audencia?\n\nAlumni from Audencia's Grande Ecole and MBA (full-time, executive part-time & EuroMBA) programmes are invited by AMBA, the Association of MBAs for an evening of networking and relationship-building in Amsterdam with students and alumni of AMBA-accredited programmes.\n\nThis event is free for students and graduates of AMBA-accredited programmes but online registration is required.\nStudents and graduates of AMBA-accredited programmes are eligible for free AMBA membership, which provides a range of exclusive benefits.\nIf you have not activated your free AMBA membership, registering for this event and selecting 'Yes' in the 'Are you interested in AMBA membership question' you agree for AMBA to automatically activate your free membership (depending on eligibility) following the event and to begin receiving membership communications.\nIf you have any questions about AMBA membership please visit www.associationofmbas.com/students-and-graduates or contact the team via membership@associationofmbas.com\n\n 
BEGIN:VALARM
ACTION:DISPLAY
TRIGGER:-PT60M
DESCRIPTION:AMBA Connect in London, UK
END:VALARM
END:VEVENT
END:VCALENDAR