BEGIN:VCALENDAR
VERSION:2.0
X-WR-TIMEZONE:Europe/Paris
PRODID:-//Audencia//NONSGML v1.0//EN
CALSCALE:GREGORIAN
BEGIN:VEVENT
SUMMARY:AMBA Connect in Glasgow, Scotland
DTSTART:20190925T183000
DTEND:20190925T213000
UID:502
DTSTAMP:20260425T205953
LOCATION:Hilton Glasgow 1 William Street Glasgow, G3 8HT
DESCRIPTION:AMBA Connect events is a series of member-focused, evening events designed to bring together student and graduate members from our ever-growing network of MBAs, MBMs and DBAs around the world.\n\nNetwork, connect, engage and inspire\nThis September we find ourselves in Glasgow, and we invite our members from around Europe and beyond to join us on Wednesday 25 September from 18:30 to 21:30 for an evening of high level discussions, informative expert opinion and invaluable networking opportunities. \n\nTopic: Purpose. Perseverance. Resilience: the ingredients of a successful career\nCareer resilience is the ability to overcome barriers, to adapt to change and respond to problems as they arise. It is the capacity to handle setbacks and bounce back. The rapidly changing world of work requires business leaders, entrepreneurs and employees to take ownership of their own career development, which means resilience is a must-have skill. Hear from Hannah Kathleen Hawkshaw, as she shares her compelling career story and explains how identifying opportunities in times of adversity helped her to build a successful business.\n \nAbout our speaker\nHannah Kathleen Hawkshaw is a recognised multi-award winning blogger, singer / songwriter and passionate entrepreneur; and the Founder and CEO of Branding Marketing Results, a branding and marketing firm based in Ireland.\nAs an entrepreneur, she has travelled internationally to conduct workshops in countries such as the US and Germany, on the topics of next-generation digital marketing, brand design and personal development.\nShe consults relevant branding and marketing strategies to her clients across five continents; with which she works to develop their brand messaging so they can dominate their market and effectively position themselves as authorities within their industries, in a way that is forward-thinking and fit for today's new economy.\nShe is incredibly passionate about the idea that we can each ‘create our own opportunity’, and spreads that message across her social media, through her talks and within her company.\nAbout the venue\nThe Hilton Glasgow is centrally located and in close proximity to local landmarks such as Glasgow Science Centre, and the Kelvingrove Art Gallery and Museum.\n\n \nREGISTER HERE\n\n\nProgramme\n18:30 – 19:00    Registration Opens\n19:00 – 19:05    Welcome \n19:05 – 19:30     Ice Breaker \n19:30 – 20:30     Speaker session\n20:30 – 20:50    AMBA Membership Presentation\n20:50 – 21:30    Networking and refreshments\n\n\n \nDid you graduate from an AMBA-accredited programme at Audencia?\n\nAlumni from Audencia's Grande Ecole and MBA (full-time, executive part-time & EuroMBA) programmes are invited by AMBA, the Association of MBAs for an evening of networking and relationship-building in Amsterdam with students and alumni of AMBA-accredited programmes.\n\nThis event is free for students and graduates of AMBA-accredited programmes but online registration is required.\n\nStudents and graduates of AMBA-accredited programmes are eligible for free AMBA membership, which provides a range of exclusive benefits.\nIf you have not activated your free AMBA membership, registering for this event and selecting 'Yes' in the 'Are you interested in AMBA membership question' you agree for AMBA to automatically activate your free membership (depending on eligibility) following the event and to begin receiving membership communications.\n\nIf you have any questions about AMBA membership please visit www.associationofmbas.com/students-and-graduates or contact the team via membership@associationofmbas.com\n\n 
BEGIN:VALARM
ACTION:DISPLAY
TRIGGER:-PT60M
DESCRIPTION:AMBA Connect in Glasgow, Scotland
END:VALARM
END:VEVENT
END:VCALENDAR