BEGIN:VCALENDAR
VERSION:2.0
X-WR-TIMEZONE:Europe/Paris
PRODID:-//Audencia//NONSGML v1.0//EN
CALSCALE:GREGORIAN
BEGIN:VEVENT
SUMMARY:AMBA Connect in Quito, Ecuador
DTSTART:20190904T180000
DTEND:20190904T213000
UID:501
DTSTAMP:20260425T205859
LOCATION:JW Marriott Hotel Quito Avenida Francisco de Orellana Quito, Ecuador
DESCRIPTION:AMBA Connect is a series of member-focused, evening events designed to bring together student and graduate members from our ever-growing network of MBAs, MBMs and DBAs around the world.\n\nNetwork, Connect, Engage and Inspire\nThis September we find ourselves in the heart of Quito and invite our members from around Ecuador to join us on Wednesday 4 September from 18:00 to 21:30 for an evening of high level discussions, informative expert opinion and invaluable networking opportunities.\n\nOur venue\nSituated in a prime location, the JW Marriott Hotel Quito is in close proximity to the Santo Domingo Church, Old Town and the House of Ecuadorian Culture. Hotel amenities include a gym, spa, outdoor pool, free Wi-Fi and meeting space.\n\n \nREGISTER HERE\n\n\nProgramme\n18:00 – 18:30 Registration Opens\n18:30 – 18:35 Welcome \n18:35 – 19:00 Ice Breaker \n19:00 – 20:00 Entrepreneurship session\n20:00 – 20:20 AMBA Membership Presentation. Presented by Tariro Masukume, Membership Manager, AMBA\n20:20 – 20:25 Announce prize winners\n20:25 – 21:30 Networking and Refreshments\n\n\n \nDid you graduate from an AMBA-accredited programme at Audencia?\n\nAlumni from Audencia's Grande Ecole and MBA (full-time, executive part-time & EuroMBA) programmes are invited by AMBA, the Association of MBAs for an evening of networking and relationship-building in Amsterdam with students and alumni of AMBA-accredited programmes.\n\nThis event is free for students and graduates of AMBA-accredited programmes but online registration is required.\nStudents and graduates of AMBA-accredited programmes are eligible for free AMBA membership, which provides a range of exclusive benefits.\nIf you have not activated your free AMBA membership, registering for this event and selecting 'Yes' in the 'Are you interested in AMBA membership question' you agree for AMBA to automatically activate your free membership (depending on eligibility) following the event and to begin receiving membership communications.\n\nIf you have any questions about AMBA membership please visit www.associationofmbas.com/students-and-graduates or contact the team via membership@associationofmbas.com\n\n\n 
BEGIN:VALARM
ACTION:DISPLAY
TRIGGER:-PT60M
DESCRIPTION:AMBA Connect in Quito, Ecuador
END:VALARM
END:VEVENT
END:VCALENDAR